BEGIN:VCALENDAR
VERSION:2.0
PRODID:icalendar-ruby
CALSCALE:GREGORIAN
BEGIN:VEVENT
DTSTAMP:20260425T170413Z
UID:7b1bfd9d-3847-49f9-b7fa-dc12b9eff6b4
DTSTART;VALUE=DATE:20201028
DESCRIPTION:Property ID# 492035\, Locatoin: 62 Queen Street\, Upper Hutt\, 
 Time: 2:00PM
SUMMARY:Auction for 
END:VEVENT
END:VCALENDAR
