BEGIN:VCALENDAR
VERSION:2.0
PRODID:icalendar-ruby
CALSCALE:GREGORIAN
BEGIN:VEVENT
DTSTAMP:20260425T200647Z
UID:f9bbcfc7-ff06-4cb8-8458-6bbaf3d8477b
DTSTART;VALUE=DATE:20201125
DESCRIPTION:Property ID# 494743\, Locatoin: 62 Queen Street\, Upper Hutt\, 
 Time: 2:00PM
SUMMARY:Auction for 
END:VEVENT
END:VCALENDAR
