BEGIN:VCALENDAR
VERSION:2.0
PRODID:icalendar-ruby
CALSCALE:GREGORIAN
BEGIN:VEVENT
DTSTAMP:20260425T200710Z
UID:feb7a796-a10c-4c91-8453-685090c96039
DTSTART;VALUE=DATE:20201222
DESCRIPTION:Property ID# 497604\, Locatoin: 62 Queen Street\, Upper Hutt\, 
 Time: 12:00PM
SUMMARY:Auction for 
END:VEVENT
END:VCALENDAR
