BEGIN:VCALENDAR
VERSION:2.0
PRODID:icalendar-ruby
CALSCALE:GREGORIAN
BEGIN:VEVENT
DTSTAMP:20260425T200353Z
UID:6ac8939c-249d-422f-981d-f962720bff26
DTSTART;VALUE=DATE:20210218
DESCRIPTION:Property ID# 500817\, Locatoin: 62 Queen Street\, Upper Hutt\, 
 Time: 2:00PM
SUMMARY:Auction for 
END:VEVENT
END:VCALENDAR
