BEGIN:VCALENDAR
VERSION:2.0
PRODID:icalendar-ruby
CALSCALE:GREGORIAN
BEGIN:VEVENT
DTSTAMP:20260425T200848Z
UID:09c3443d-bd7b-461b-a278-80f93f567838
DTSTART;VALUE=DATE:20211110
DESCRIPTION:Property ID# 520172\, Locatoin: Bayleys Office\, 62 Queens Stre
 et\, Upper Hutt\, Time: 2:00PM
SUMMARY:Auction for 
END:VEVENT
END:VCALENDAR
