BEGIN:VCALENDAR
VERSION:2.0
PRODID:icalendar-ruby
CALSCALE:GREGORIAN
BEGIN:VEVENT
DTSTAMP:20260425T200433Z
UID:39544e4c-c099-4242-a932-972834f130a1
DTSTART;VALUE=DATE:20250528
DESCRIPTION:Property ID# 592516\, Locatoin: 62 Queen Street. Upper Hutt\, T
 ime: 2:00PM
SUMMARY:Auction for 
END:VEVENT
END:VCALENDAR
